BEGIN:VCALENDAR
VERSION:2.0
PRODID:-//Top Analytica - ECPv6.15.20//NONSGML v1.0//EN
CALSCALE:GREGORIAN
METHOD:PUBLISH
X-ORIGINAL-URL:https://www.topanalytica.com
X-WR-CALDESC:Tapahtumat Top Analytica
REFRESH-INTERVAL;VALUE=DURATION:PT1H
X-Robots-Tag:noindex
X-PUBLISHED-TTL:PT1H
BEGIN:VTIMEZONE
TZID:Europe/Helsinki
BEGIN:DAYLIGHT
TZOFFSETFROM:+0200
TZOFFSETTO:+0300
TZNAME:EEST
DTSTART:20250330T010000
END:DAYLIGHT
BEGIN:STANDARD
TZOFFSETFROM:+0300
TZOFFSETTO:+0200
TZNAME:EET
DTSTART:20251026T010000
END:STANDARD
BEGIN:DAYLIGHT
TZOFFSETFROM:+0200
TZOFFSETTO:+0300
TZNAME:EEST
DTSTART:20260329T010000
END:DAYLIGHT
BEGIN:STANDARD
TZOFFSETFROM:+0300
TZOFFSETTO:+0200
TZNAME:EET
DTSTART:20261025T010000
END:STANDARD
BEGIN:DAYLIGHT
TZOFFSETFROM:+0200
TZOFFSETTO:+0300
TZNAME:EEST
DTSTART:20270328T010000
END:DAYLIGHT
BEGIN:STANDARD
TZOFFSETFROM:+0300
TZOFFSETTO:+0200
TZNAME:EET
DTSTART:20271031T010000
END:STANDARD
BEGIN:DAYLIGHT
TZOFFSETFROM:+0200
TZOFFSETTO:+0300
TZNAME:EEST
DTSTART:20280326T010000
END:DAYLIGHT
BEGIN:STANDARD
TZOFFSETFROM:+0300
TZOFFSETTO:+0200
TZNAME:EET
DTSTART:20281029T010000
END:STANDARD
END:VTIMEZONE
BEGIN:VEVENT
DTSTART;TZID=Europe/Helsinki:20260305T150000
DTEND;TZID=Europe/Helsinki:20260305T160000
DTSTAMP:20260420T210529
CREATED:20251230T115623Z
LAST-MODIFIED:20260306T134005Z
UID:5062-1772722800-1772726400@www.topanalytica.com
SUMMARY:Webinar: Selecting the optimal EDS-system for your application
DESCRIPTION:Choosing the right Energy Dispersive Spectroscopy (EDS) system is critical for accurate material analysis in scanning electron microscopy (SEM). In this webinar\, we will guide you through key factors to consider when selecting an EDS system\, including performance\, resolution\, detection limits\, and application-specific requirements.  \n\n\n\nDate: March 5\, 2026Time: 15.00-16.00 EET (UTC +2)Platform: Microsoft TeamsSpeaker: Jyrki Juhanoja\, Top Analytica Ltd. \n\n\n\nWho should attend: \n\n\n\n\nSEM users and microscopists\n\n\n\nMaterials scientists and engineers\n\n\n\nR&D teams working with metals\, alloys\, polymers\, or composites\n\n\n\nQuality assurance and failure analysis professionals\n\n\n\n\nDon’t miss the opportunity to gain practical guidance on selecting an EDS system that meets your analytical needs and supports accurate\, reliable results. \n\n\n\n \n\n\n\nInterested in this webinar?\n\n\n\nYou will receive a link to a recording by subscribing. Just add your contact information to the form below. \n\n\n\n\n  \n\n\n\n First name*\n \n \n Surname*\n \n \n Organization*\n \n \n E-mail *\n \n \n Field of business*\nAcademic institutionAnalytical servicesBiotechnologyBuilding & constructionCosmeticsElectronicsFood industryGovernmental institutionMetal & steelPaints and coatingsPharmaceuticsPulp\, paper & boardRaw-material manufacturingOther \n \nAdditional comments or requests for future webinar content:\n \n \n\nWe use the information obtained through the form to provide and improve our services. For more information\, you can find Top Analytica Ltd.'s privacy policy.\n \n\n \n\n\n\n\n\n\nCheck out also our previous webinar: Webinar 6: SEM-EDS Insights into Inconel 625 Corrosion
URL:https://www.topanalytica.com/event/webinar-7
LOCATION:Teams
CATEGORIES:Webinaarit
ORGANIZER;CN="Top Analytica Ltd.":MAILTO:info@topanalytica.com
END:VEVENT
BEGIN:VEVENT
DTSTART;TZID=Europe/Helsinki:20260325T090000
DTEND;TZID=Europe/Helsinki:20260326T150000
DTSTAMP:20260420T210529
CREATED:20260109T114757Z
LAST-MODIFIED:20260119T065503Z
UID:5151-1774429200-1774537200@www.topanalytica.com
SUMMARY:Bio & Pharma Mini-Workshop
DESCRIPTION:Join us for a two-day immersive workshop focused on ToF-SIMS in R&D & Quality Assurance. Explore advanced surface and molecular analysis techniques\, attend live demonstrations\, and gain hands-on experience with cutting-edge instrumentation. \n\n\n\nThis event is tailored for professionals in R&D\, Quality Assurance\, and related fields from the pharmaceutical and biotech sectors. Network with experts\, learn best practices\, and see real case studies that address analytical challenges in pharma and bio applications. \n\n\n\nHighlights include: \n\n\n\n\nLive ToF-SIMS demonstrations with expert guidance\n\n\n\nCase studies and practical tips from leading analysts\n\n\n\nLaboratory tours and hands-on measurement slots\n\n\n\nComplimentary lunch and networking opportunities\n\n\n\nSpaces are limited—secure your spot now and take your analytical skills to the next level!
URL:https://www.topanalytica.com/event/bio-pharma-mini-workshop
LOCATION:Top Analytica Ltd.\, Ruukinkatu 4\, TURKU\, 20540\, Finland
ORGANIZER;CN="Top Analytica Ltd.":MAILTO:info@topanalytica.com
END:VEVENT
BEGIN:VEVENT
DTSTART;TZID=Europe/Helsinki:20260414T080000
DTEND;TZID=Europe/Helsinki:20260416T080000
DTSTAMP:20260420T210529
CREATED:20260410T111446Z
LAST-MODIFIED:20260410T111447Z
UID:5741-1776153600-1776326400@www.topanalytica.com
SUMMARY:Nordic Corrosion Congress
DESCRIPTION:Top Analytica will participate in the 19th Nordic Corrosion Congress\, held in Stockholm\, Sweden\, from April 14–16\, 2026. This biennial event serves as a primary forum for Nordic and international researchers and industry professionals to discuss advancements in corrosion science and surface protection. \n\n\n\nOur CEO\, Ville Saarimaa\, will represent Top Analytica within the Coatings and Surface Aspects technical session. \n\n\n\nPresentation:\n\n\n\n“Transition from thermal curing to radiation curing coil coatings: observations from first generation coating development” Co-authored with researchers from RISE\, Top Analytica\, and industry partners. \n\n\n\nKey Topics:\n\n\n\n\nSustainability: Transitions from thermal to radiation curing (UV/EB) to improve energy efficiency and reduce VOC emissions.\n\n\n\nTechnical Analysis: Evaluation of compatibility between existing pretreatments and new UV-curable coatings.\n\n\n\nMethodology: Data from laboratory testing\, environmental exposure\, and advanced surface analysis.
URL:https://www.topanalytica.com/event/nordic-corrosion-congress
LOCATION:Nordic Forum\, Torshamnsgatan 35\, Stockholm\, Sweden
END:VEVENT
BEGIN:VEVENT
DTSTART;TZID=Europe/Helsinki:20270414T080000
DTEND;TZID=Europe/Helsinki:20270416T170000
DTSTAMP:20260420T210529
CREATED:20260415T125921Z
LAST-MODIFIED:20260415T125945Z
UID:5782-1807689600-1807894800@www.topanalytica.com
SUMMARY:Top Analytica’s 6th Microscopy and Microanalysis Workshop
DESCRIPTION:Join us in Turku for three inspiring days of cutting-edge microscopy\, microanalysis\, and material characterization. Following the success of our 2025 event\, we return with a refreshed program\, new insights\, and the same strong focus on practical\, high-quality scientific content. \n\n\n\nThe workshop brings together experts in coatings technology\, advanced imaging\, and laboratory techniques—offering hands-on demonstrations\, valuable discussions\, and excellent networking opportunities. \n\n\n\nRevisit the highlights from our 2025 workshop here!
URL:https://www.topanalytica.com/event/top-analyticas-6th-microscopy-and-microanalysis-workshop
LOCATION:Radisson Blu Marina Palace\, Linnankatu 32\, Turku\, 20100
ORGANIZER;CN="Top Analytica Ltd.":MAILTO:info@topanalytica.com
END:VEVENT
END:VCALENDAR